BEGIN:VCALENDAR
VERSION:2.0
PRODID:DPCALENDAR
CALSCALE:GREGORIAN
BEGIN:VTIMEZONE
TZID:Europe/Berlin
X-MICROSOFT-CDO-TZID:4
BEGIN:STANDARD
DTSTART:20251026T010000
TZOFFSETFROM:+0200
TZOFFSETTO:+0100
TZNAME:CET
END:STANDARD
BEGIN:DAYLIGHT
DTSTART:20260329T010000
TZOFFSETFROM:+0100
TZOFFSETTO:+0200
TZNAME:CEST
END:DAYLIGHT
BEGIN:STANDARD
DTSTART:20261025T010000
TZOFFSETFROM:+0200
TZOFFSETTO:+0100
TZNAME:CET
END:STANDARD
END:VTIMEZONE
X-WR-TIMEZONE:Europe/Berlin
BEGIN:VEVENT
DTSTART;TZID=Europe/Berlin:20191113T150000
DTEND;TZID=Europe/Berlin:20191113T170000
UID:B3C5D465-BED5-43EB-84C5-BDBFD99C6B8C
SUMMARY:Entdeckernachmittag 
DTSTAMP:20190823T211340Z
DESCRIPTION:Ort: Wüstenhöferstraße 
X-ALT-DESC;FMTTYPE=text/html:<p><span style="font-family: verdana, geneva; font-size: 12pt;">Ort: Wüstenhöferstraße </span></p>
X-ACCESS:1
X-HITS:1027
X-URL:
X-COLOR:F7D358
END:VEVENT
END:VCALENDAR