BEGIN:VCALENDAR
VERSION:2.0
PRODID:DPCALENDAR
CALSCALE:GREGORIAN
BEGIN:VTIMEZONE
TZID:Europe/Berlin
X-MICROSOFT-CDO-TZID:4
BEGIN:STANDARD
DTSTART:20251026T010000
TZOFFSETFROM:+0200
TZOFFSETTO:+0100
TZNAME:CET
END:STANDARD
BEGIN:DAYLIGHT
DTSTART:20260329T010000
TZOFFSETFROM:+0100
TZOFFSETTO:+0200
TZNAME:CEST
END:DAYLIGHT
BEGIN:STANDARD
DTSTART:20261025T010000
TZOFFSETFROM:+0200
TZOFFSETTO:+0100
TZNAME:CET
END:STANDARD
END:VTIMEZONE
X-WR-TIMEZONE:Europe/Berlin
BEGIN:VEVENT
DTSTART;TZID=Europe/Berlin:20190826T110000
DTEND;TZID=Europe/Berlin:20190826T130000
UID:86782B2E-EFB2-4425-9A46-07B43515DEA9
SUMMARY:Schriftliche Nachprüfungen
DTSTAMP:20190712T170350Z
DESCRIPTION:Raum 103
X-ALT-DESC;FMTTYPE=text/html:<p><span style="font-family: verdana, geneva; font-size: 12pt;">Raum 103</span></p>
LAST-MODIFIED:20190821T182136Z
X-ACCESS:1
X-HITS:1009
X-URL:
X-COLOR:E8173A
END:VEVENT
END:VCALENDAR